BEGIN:VCALENDAR
VERSION:2.0
PRODID:-//wp-events-plugin.com//7.2.3.1//EN
TZID:Europe/Berlin
X-WR-TIMEZONE:Europe/Berlin
BEGIN:VEVENT
UID:87@megazin.de
DTSTART;TZID=Europe/Berlin:20260509T210000
DTEND;TZID=Europe/Berlin:20260510T030000
DTSTAMP:20260420T095121Z
URL:https://megazin.de/events/bravo-hits-party-feier-deine-jugend-2/
SUMMARY:BRAVO HITS PARTY - Feier deine Jugend
DESCRIPTION:🎉 Ingolstadt\, seid Ihr bereit?\nDie original BRAVO Hits Par
 ty kommt exklusiv zu uns nach Ingolstadt!🎉\n\nAm 09.05.26 feiern wir di
 e legendäre BRAVO Hits Party – die erfolgreichste CD-Serie der Welt- ü
 ber 80 Millionen verkaufte Tonträger und die größten Hits aus den 90ern
  und 2000ern. Das ist die Kult-Party für alle\, die auf die besten Songs 
 von damals und heute abgehen! 🌟\n\nDie größten Hits der letzten Jahrz
 ehnte:\n🎬 Erlebt die größten Hits von Britney Spears\, Eminem\, Spice
  Girls\, Usher\, Destiny’s Child\, Justin Timberlake\, Rihanna\, Lady Ga
 ga\, Backstreet Boys und vielen mehr. Dazu gibt's die heißesten aktuellen
  Chart-Banger\, die Euch die ganze Nacht lang zum Tanzen bringen!\n\n🚨 
 Specials\, die Ihr nicht verpassen dürft: 🚨\n• BRAVO Hits Deko – L
 asst Euch von der Mega Kult-Deko und den Visuals direkt ins Feeling der 90
 er und 2000er zurückversetzen! ✨\n• Musikvideos auf XXL-Screens – D
 ie größten Hits der BRAVO Hits Geschichte auf unserer Leinwand! 🎬\n
 • Retro Nintendo Station – Zockt die besten Retro-Games und messt Euch
  mit Freunden! 🎮\n• Animations- &amp\; Showteam – Für die perfekte
  Stimmung\n________________________________________\n📅 Infos zur Party:
 \n🔹 Termin: 09.05.26\n🔹 Beginn: 21 Uhr\n🔹 Einlass ab 16 Jahren\n\
 nSeid dabei und feiert mit uns zu den größten Hits aus über 25 Jahren P
 opgeschichte!\nSchnappt Euch Eure Freunde\, packt Eure besten Retro-Outfit
 s ein und macht Euch bereit für die ultimative Kult-Party! 💥\n\n[ngg s
 rc="galleries" ids="183" display="basic_thumbnail" thumbnail_crop="0" maxi
 mum_entity_count="500"]
ATTACH;FMTTYPE=image/jpeg:https://megazin.de/wp-content/uploads/Key-Visual
 -2-BRAVO-16-9-Eventbild-0-00-00-00.webp
END:VEVENT
BEGIN:VTIMEZONE
TZID:Europe/Berlin
X-LIC-LOCATION:Europe/Berlin
BEGIN:DAYLIGHT
DTSTART:20260329T030000
TZOFFSETFROM:+0100
TZOFFSETTO:+0200
TZNAME:CEST
END:DAYLIGHT
END:VTIMEZONE
END:VCALENDAR